BEGIN:VCALENDAR
VERSION:2.0
PRODID:-//Island H2O Water Park - ECPv6.15.20//NONSGML v1.0//EN
CALSCALE:GREGORIAN
METHOD:PUBLISH
X-WR-CALNAME:Island H2O Water Park
X-ORIGINAL-URL:https://islandh2owaterpark.com
X-WR-CALDESC:Events for Island H2O Water Park
REFRESH-INTERVAL;VALUE=DURATION:PT1H
X-Robots-Tag:noindex
X-PUBLISHED-TTL:PT1H
BEGIN:VTIMEZONE
TZID:America/New_York
BEGIN:DAYLIGHT
TZOFFSETFROM:-0500
TZOFFSETTO:-0400
TZNAME:EDT
DTSTART:20250309T070000
END:DAYLIGHT
BEGIN:STANDARD
TZOFFSETFROM:-0400
TZOFFSETTO:-0500
TZNAME:EST
DTSTART:20251102T060000
END:STANDARD
BEGIN:DAYLIGHT
TZOFFSETFROM:-0500
TZOFFSETTO:-0400
TZNAME:EDT
DTSTART:20260308T070000
END:DAYLIGHT
BEGIN:STANDARD
TZOFFSETFROM:-0400
TZOFFSETTO:-0500
TZNAME:EST
DTSTART:20261101T060000
END:STANDARD
BEGIN:DAYLIGHT
TZOFFSETFROM:-0500
TZOFFSETTO:-0400
TZNAME:EDT
DTSTART:20270314T070000
END:DAYLIGHT
BEGIN:STANDARD
TZOFFSETFROM:-0400
TZOFFSETTO:-0500
TZNAME:EST
DTSTART:20271107T060000
END:STANDARD
END:VTIMEZONE
BEGIN:VEVENT
DTSTART;TZID=America/New_York:20260531T140000
DTEND;TZID=America/New_York:20260531T170000
DTSTAMP:20260419T155200
CREATED:20260220T133352Z
LAST-MODIFIED:20260325T150839Z
UID:19622-1780236000-1780246800@islandh2owaterpark.com
SUMMARY:Dive-In Movies at Live Lagoon Wave Pool!
DESCRIPTION:Summer Series: Dive-In Movies\n			\n			\n				\n				\n				\n				\n			\n				\n				\n				\n				\n				\n				\n				\n				\n				\n				\n				Visit the Island on a Sunday this summer beginning on May 31st and enjoy a Dive-In movie INCLUDED with your daily admission! \nMovie Line Up: \nMay 31st – TBD \nJune 7th – Zootopia 2 \nJune 14th – Lilo & Stich (Live Action) \nJune 21st – Flushed Away \nJune 28th – Finding Nemo \nJuly 5th – Top Gun (Original) \nJuly 12th – Dolphin Tale \nJuly 19th – Madagascar \nJuly 26th – How to Train Your Dragon \nAugust 2nd – TBD \n  \nEnjoy food & beverage specials during every movie including popcorn & soda bundles!  \nSeason Passholders Get ONE FREE Popcorn Per Movie! 
URL:https://islandh2owaterpark.com/event/dive-in-movies-at-live-lagoon-wave-pool/2026-05-31/
LOCATION:Island H2O Water Park\, 3230 Inspiration Dr\, Kissimmee\, FL\, 34747\, United States
CATEGORIES:2026 Events,summer
ATTACH;FMTTYPE=image/png:https://islandh2owaterpark.com/wp-content/uploads/2026/02/Web-Image-5.png
END:VEVENT
BEGIN:VEVENT
DTSTART;TZID=America/New_York:20260607T140000
DTEND;TZID=America/New_York:20260607T170000
DTSTAMP:20260419T155200
CREATED:20260220T133352Z
LAST-MODIFIED:20260220T133352Z
UID:19626-1780840800-1780851600@islandh2owaterpark.com
SUMMARY:Dive-In Movies at Live Lagoon Wave Pool!
DESCRIPTION:Summer Series: Dive-In Movies\n			\n			\n				\n				\n				\n				\n			\n				\n				\n				\n				\n				\n				\n				\n				\n				\n				\n				Visit the Island on a Sunday this summer beginning on May 31st and enjoy a Dive-In movie INCLUDED with your daily admission! \nMovie Line Up: \nMay 31st – TBD \nJune 7th – Zootopia 2 \nJune 14th – Lilo & Stich (Live Action) \nJune 21st – Flushed Away \nJune 28th – Finding Nemo \nJuly 5th – Top Gun (Original) \nJuly 12th – Dolphin Tale \nJuly 19th – Madagascar \nJuly 26th – How to Train Your Dragon \nAugust 3rd – TBD \n  \nEnjoy food & beverage specials during every movie including popcorn & soda bundles!  \nSeason Passholders Get ONE FREE Popcorn Per Movie! 
URL:https://islandh2owaterpark.com/event/dive-in-movies-at-live-lagoon-wave-pool/2026-06-07/
LOCATION:Island H2O Water Park\, 3230 Inspiration Dr\, Kissimmee\, FL\, 34747\, United States
CATEGORIES:2026 Events,summer
ATTACH;FMTTYPE=image/png:https://islandh2owaterpark.com/wp-content/uploads/2026/02/Web-Image-5.png
END:VEVENT
BEGIN:VEVENT
DTSTART;TZID=America/New_York:20260614T140000
DTEND;TZID=America/New_York:20260614T170000
DTSTAMP:20260419T155200
CREATED:20260220T133352Z
LAST-MODIFIED:20260220T133352Z
UID:19627-1781445600-1781456400@islandh2owaterpark.com
SUMMARY:Dive-In Movies at Live Lagoon Wave Pool!
DESCRIPTION:Summer Series: Dive-In Movies\n			\n			\n				\n				\n				\n				\n			\n				\n				\n				\n				\n				\n				\n				\n				\n				\n				\n				Visit the Island on a Sunday this summer beginning on May 31st and enjoy a Dive-In movie INCLUDED with your daily admission! \nMovie Line Up: \nMay 31st – TBD \nJune 7th – Zootopia 2 \nJune 14th – Lilo & Stich (Live Action) \nJune 21st – Flushed Away \nJune 28th – Finding Nemo \nJuly 5th – Top Gun (Original) \nJuly 12th – Dolphin Tale \nJuly 19th – Madagascar \nJuly 26th – How to Train Your Dragon \nAugust 3rd – TBD \n  \nEnjoy food & beverage specials during every movie including popcorn & soda bundles!  \nSeason Passholders Get ONE FREE Popcorn Per Movie! 
URL:https://islandh2owaterpark.com/event/dive-in-movies-at-live-lagoon-wave-pool/2026-06-14/
LOCATION:Island H2O Water Park\, 3230 Inspiration Dr\, Kissimmee\, FL\, 34747\, United States
CATEGORIES:2026 Events,summer
ATTACH;FMTTYPE=image/png:https://islandh2owaterpark.com/wp-content/uploads/2026/02/Web-Image-5.png
END:VEVENT
BEGIN:VEVENT
DTSTART;TZID=America/New_York:20260621T140000
DTEND;TZID=America/New_York:20260621T170000
DTSTAMP:20260419T155201
CREATED:20260220T133352Z
LAST-MODIFIED:20260220T133352Z
UID:19628-1782050400-1782061200@islandh2owaterpark.com
SUMMARY:Dive-In Movies at Live Lagoon Wave Pool!
DESCRIPTION:Summer Series: Dive-In Movies\n			\n			\n				\n				\n				\n				\n			\n				\n				\n				\n				\n				\n				\n				\n				\n				\n				\n				Visit the Island on a Sunday this summer beginning on May 31st and enjoy a Dive-In movie INCLUDED with your daily admission! \nMovie Line Up: \nMay 31st – TBD \nJune 7th – Zootopia 2 \nJune 14th – Lilo & Stich (Live Action) \nJune 21st – Flushed Away \nJune 28th – Finding Nemo \nJuly 5th – Top Gun (Original) \nJuly 12th – Dolphin Tale \nJuly 19th – Madagascar \nJuly 26th – How to Train Your Dragon \nAugust 3rd – TBD \n  \nEnjoy food & beverage specials during every movie including popcorn & soda bundles!  \nSeason Passholders Get ONE FREE Popcorn Per Movie! 
URL:https://islandh2owaterpark.com/event/dive-in-movies-at-live-lagoon-wave-pool/2026-06-21/
LOCATION:Island H2O Water Park\, 3230 Inspiration Dr\, Kissimmee\, FL\, 34747\, United States
CATEGORIES:2026 Events,summer
ATTACH;FMTTYPE=image/png:https://islandh2owaterpark.com/wp-content/uploads/2026/02/Web-Image-5.png
END:VEVENT
BEGIN:VEVENT
DTSTART;TZID=America/New_York:20260628T140000
DTEND;TZID=America/New_York:20260628T170000
DTSTAMP:20260419T155201
CREATED:20260220T133352Z
LAST-MODIFIED:20260220T133352Z
UID:19629-1782655200-1782666000@islandh2owaterpark.com
SUMMARY:Dive-In Movies at Live Lagoon Wave Pool!
DESCRIPTION:Summer Series: Dive-In Movies\n			\n			\n				\n				\n				\n				\n			\n				\n				\n				\n				\n				\n				\n				\n				\n				\n				\n				Visit the Island on a Sunday this summer beginning on May 31st and enjoy a Dive-In movie INCLUDED with your daily admission! \nMovie Line Up: \nMay 31st – TBD \nJune 7th – Zootopia 2 \nJune 14th – Lilo & Stich (Live Action) \nJune 21st – Flushed Away \nJune 28th – Finding Nemo \nJuly 5th – Top Gun (Original) \nJuly 12th – Dolphin Tale \nJuly 19th – Madagascar \nJuly 26th – How to Train Your Dragon \nAugust 3rd – TBD \n  \nEnjoy food & beverage specials during every movie including popcorn & soda bundles!  \nSeason Passholders Get ONE FREE Popcorn Per Movie! 
URL:https://islandh2owaterpark.com/event/dive-in-movies-at-live-lagoon-wave-pool/2026-06-28/
LOCATION:Island H2O Water Park\, 3230 Inspiration Dr\, Kissimmee\, FL\, 34747\, United States
CATEGORIES:2026 Events,summer
ATTACH;FMTTYPE=image/png:https://islandh2owaterpark.com/wp-content/uploads/2026/02/Web-Image-5.png
END:VEVENT
BEGIN:VEVENT
DTSTART;TZID=America/New_York:20260705T140000
DTEND;TZID=America/New_York:20260705T170000
DTSTAMP:20260419T155201
CREATED:20260220T133352Z
LAST-MODIFIED:20260220T133352Z
UID:19630-1783260000-1783270800@islandh2owaterpark.com
SUMMARY:Dive-In Movies at Live Lagoon Wave Pool!
DESCRIPTION:Summer Series: Dive-In Movies\n			\n			\n				\n				\n				\n				\n			\n				\n				\n				\n				\n				\n				\n				\n				\n				\n				\n				Visit the Island on a Sunday this summer beginning on May 31st and enjoy a Dive-In movie INCLUDED with your daily admission! \nMovie Line Up: \nMay 31st – TBD \nJune 7th – Zootopia 2 \nJune 14th – Lilo & Stich (Live Action) \nJune 21st – Flushed Away \nJune 28th – Finding Nemo \nJuly 5th – Top Gun (Original) \nJuly 12th – Dolphin Tale \nJuly 19th – Madagascar \nJuly 26th – How to Train Your Dragon \nAugust 3rd – TBD \n  \nEnjoy food & beverage specials during every movie including popcorn & soda bundles!  \nSeason Passholders Get ONE FREE Popcorn Per Movie! 
URL:https://islandh2owaterpark.com/event/dive-in-movies-at-live-lagoon-wave-pool/2026-07-05/
LOCATION:Island H2O Water Park\, 3230 Inspiration Dr\, Kissimmee\, FL\, 34747\, United States
CATEGORIES:2026 Events,summer
ATTACH;FMTTYPE=image/png:https://islandh2owaterpark.com/wp-content/uploads/2026/02/Web-Image-5.png
END:VEVENT
BEGIN:VEVENT
DTSTART;TZID=America/New_York:20260712T140000
DTEND;TZID=America/New_York:20260712T170000
DTSTAMP:20260419T155201
CREATED:20260220T133352Z
LAST-MODIFIED:20260220T133352Z
UID:19631-1783864800-1783875600@islandh2owaterpark.com
SUMMARY:Dive-In Movies at Live Lagoon Wave Pool!
DESCRIPTION:Summer Series: Dive-In Movies\n			\n			\n				\n				\n				\n				\n			\n				\n				\n				\n				\n				\n				\n				\n				\n				\n				\n				Visit the Island on a Sunday this summer beginning on May 31st and enjoy a Dive-In movie INCLUDED with your daily admission! \nMovie Line Up: \nMay 31st – TBD \nJune 7th – Zootopia 2 \nJune 14th – Lilo & Stich (Live Action) \nJune 21st – Flushed Away \nJune 28th – Finding Nemo \nJuly 5th – Top Gun (Original) \nJuly 12th – Dolphin Tale \nJuly 19th – Madagascar \nJuly 26th – How to Train Your Dragon \nAugust 3rd – TBD \n  \nEnjoy food & beverage specials during every movie including popcorn & soda bundles!  \nSeason Passholders Get ONE FREE Popcorn Per Movie! 
URL:https://islandh2owaterpark.com/event/dive-in-movies-at-live-lagoon-wave-pool/2026-07-12/
LOCATION:Island H2O Water Park\, 3230 Inspiration Dr\, Kissimmee\, FL\, 34747\, United States
CATEGORIES:2026 Events,summer
ATTACH;FMTTYPE=image/png:https://islandh2owaterpark.com/wp-content/uploads/2026/02/Web-Image-5.png
END:VEVENT
BEGIN:VEVENT
DTSTART;TZID=America/New_York:20260719T140000
DTEND;TZID=America/New_York:20260719T170000
DTSTAMP:20260419T155201
CREATED:20260220T133352Z
LAST-MODIFIED:20260220T133352Z
UID:19633-1784469600-1784480400@islandh2owaterpark.com
SUMMARY:Dive-In Movies at Live Lagoon Wave Pool!
DESCRIPTION:Summer Series: Dive-In Movies\n			\n			\n				\n				\n				\n				\n			\n				\n				\n				\n				\n				\n				\n				\n				\n				\n				\n				Visit the Island on a Sunday this summer beginning on May 31st and enjoy a Dive-In movie INCLUDED with your daily admission! \nMovie Line Up: \nMay 31st – TBD \nJune 7th – Zootopia 2 \nJune 14th – Lilo & Stich (Live Action) \nJune 21st – Flushed Away \nJune 28th – Finding Nemo \nJuly 5th – Top Gun (Original) \nJuly 12th – Dolphin Tale \nJuly 19th – Madagascar \nJuly 26th – How to Train Your Dragon \nAugust 3rd – TBD \n  \nEnjoy food & beverage specials during every movie including popcorn & soda bundles!  \nSeason Passholders Get ONE FREE Popcorn Per Movie! 
URL:https://islandh2owaterpark.com/event/dive-in-movies-at-live-lagoon-wave-pool/2026-07-19/
LOCATION:Island H2O Water Park\, 3230 Inspiration Dr\, Kissimmee\, FL\, 34747\, United States
CATEGORIES:2026 Events,summer
ATTACH;FMTTYPE=image/png:https://islandh2owaterpark.com/wp-content/uploads/2026/02/Web-Image-5.png
END:VEVENT
BEGIN:VEVENT
DTSTART;TZID=America/New_York:20260726T140000
DTEND;TZID=America/New_York:20260726T170000
DTSTAMP:20260419T155201
CREATED:20260220T133352Z
LAST-MODIFIED:20260220T133352Z
UID:19940-1785074400-1785085200@islandh2owaterpark.com
SUMMARY:Dive-In Movies at Live Lagoon Wave Pool!
DESCRIPTION:Summer Series: Dive-In Movies\n			\n			\n				\n				\n				\n				\n			\n				\n				\n				\n				\n				\n				\n				\n				\n				\n				\n				Visit the Island on a Sunday this summer beginning on May 31st and enjoy a Dive-In movie INCLUDED with your daily admission! \nMovie Line Up: \nMay 31st – TBD \nJune 7th – Zootopia 2 \nJune 14th – Lilo & Stich (Live Action) \nJune 21st – Flushed Away \nJune 28th – Finding Nemo \nJuly 5th – Top Gun (Original) \nJuly 12th – Dolphin Tale \nJuly 19th – Madagascar \nJuly 26th – How to Train Your Dragon \nAugust 3rd – TBD \n  \nEnjoy food & beverage specials during every movie including popcorn & soda bundles!  \nSeason Passholders Get ONE FREE Popcorn Per Movie! 
URL:https://islandh2owaterpark.com/event/dive-in-movies-at-live-lagoon-wave-pool/2026-07-26/
LOCATION:Island H2O Water Park\, 3230 Inspiration Dr\, Kissimmee\, FL\, 34747\, United States
CATEGORIES:2026 Events,summer
ATTACH;FMTTYPE=image/png:https://islandh2owaterpark.com/wp-content/uploads/2026/02/Web-Image-5.png
END:VEVENT
BEGIN:VEVENT
DTSTART;TZID=America/New_York:20260802T140000
DTEND;TZID=America/New_York:20260802T170000
DTSTAMP:20260419T155201
CREATED:20260220T133352Z
LAST-MODIFIED:20260220T133352Z
UID:19941-1785679200-1785690000@islandh2owaterpark.com
SUMMARY:Dive-In Movies at Live Lagoon Wave Pool!
DESCRIPTION:Summer Series: Dive-In Movies\n			\n			\n				\n				\n				\n				\n			\n				\n				\n				\n				\n				\n				\n				\n				\n				\n				\n				Visit the Island on a Sunday this summer beginning on May 31st and enjoy a Dive-In movie INCLUDED with your daily admission! \nMovie Line Up: \nMay 31st – TBD \nJune 7th – Zootopia 2 \nJune 14th – Lilo & Stich (Live Action) \nJune 21st – Flushed Away \nJune 28th – Finding Nemo \nJuly 5th – Top Gun (Original) \nJuly 12th – Dolphin Tale \nJuly 19th – Madagascar \nJuly 26th – How to Train Your Dragon \nAugust 3rd – TBD \n  \nEnjoy food & beverage specials during every movie including popcorn & soda bundles!  \nSeason Passholders Get ONE FREE Popcorn Per Movie! 
URL:https://islandh2owaterpark.com/event/dive-in-movies-at-live-lagoon-wave-pool/2026-08-02/
LOCATION:Island H2O Water Park\, 3230 Inspiration Dr\, Kissimmee\, FL\, 34747\, United States
CATEGORIES:2026 Events,summer
ATTACH;FMTTYPE=image/png:https://islandh2owaterpark.com/wp-content/uploads/2026/02/Web-Image-5.png
END:VEVENT
END:VCALENDAR